BEGIN:VCALENDAR
VERSION:2.0
PRODID:-//Indian Aquatics - ECPv6.2.0.1//NONSGML v1.0//EN
CALSCALE:GREGORIAN
METHOD:PUBLISH
X-ORIGINAL-URL:https://indianaquatics.in
X-WR-CALDESC:Events for Indian Aquatics
REFRESH-INTERVAL;VALUE=DURATION:PT1H
X-Robots-Tag:noindex
X-PUBLISHED-TTL:PT1H
BEGIN:VTIMEZONE
TZID:UTC
BEGIN:STANDARD
TZOFFSETFROM:+0000
TZOFFSETTO:+0000
TZNAME:UTC
DTSTART:20220101T000000
END:STANDARD
END:VTIMEZONE
BEGIN:VEVENT
DTSTART;TZID=UTC:20260129T080000
DTEND;TZID=UTC:20260201T170000
DTSTAMP:20260421T184135
CREATED:20251018T052741Z
LAST-MODIFIED:20251018T052741Z
UID:4187-1769673600-1769965200@indianaquatics.in
SUMMARY:Asian Open Schools Invitational (AOSI) Long Course (50m) Swimming Championships Bangkok 2026
DESCRIPTION:Asian Open Schools Invitational (AOSI) Long Course (50m) Swimming Championships Bangkok 2026
URL:https://indianaquatics.in/event/asian-open-schools-invitational-aosi-long-course-50m-swimming-championships-bangkok-2026/
LOCATION:assumption university aquatic center
CATEGORIES:Events,Swimming
END:VEVENT
BEGIN:VEVENT
DTSTART;TZID=UTC:20251121T080000
DTEND;TZID=UTC:20251223T170000
DTSTAMP:20260421T184135
CREATED:20251018T052259Z
LAST-MODIFIED:20251018T052259Z
UID:4172-1763712000-1766509200@indianaquatics.in
SUMMARY:21st National Masters championships 2025
DESCRIPTION:
URL:https://indianaquatics.in/event/21st-national-masters-championships-2025/
LOCATION:aquatic complex gachibowli
CATEGORIES:Events,Swimming
END:VEVENT
BEGIN:VEVENT
DTSTART;TZID=UTC:20251108T080000
DTEND;TZID=UTC:20251109T170000
DTSTAMP:20260421T184135
CREATED:20251018T052634Z
LAST-MODIFIED:20251018T052634Z
UID:4184-1762588800-1762707600@indianaquatics.in
SUMMARY:NETTAKALLAPPA SWIMMING COMPETITION 2025
DESCRIPTION:
URL:https://indianaquatics.in/event/nettakallappa-swimming-competition-2025/
CATEGORIES:Events,Swimming
END:VEVENT
BEGIN:VEVENT
DTSTART;TZID=UTC:20251107T080000
DTEND;TZID=UTC:20251107T170000
DTSTAMP:20260421T184135
CREATED:20251018T052551Z
LAST-MODIFIED:20251018T052551Z
UID:4181-1762502400-1762534800@indianaquatics.in
SUMMARY:15th Edition of Treamis Interschool Aquatic Championship
DESCRIPTION:15th Edition of Treamis Interschool Aquatic Championship
URL:https://indianaquatics.in/event/15th-edition-of-treamis-interschool-aquatic-championship/
CATEGORIES:Events,Swimming
END:VEVENT
BEGIN:VEVENT
DTSTART;TZID=UTC:20230606T080000
DTEND;TZID=UTC:20230610T170000
DTSTAMP:20260421T184135
CREATED:20230607T093219Z
LAST-MODIFIED:20230607T093219Z
UID:2884-1686038400-1686416400@indianaquatics.in
SUMMARY:66th National School Games Swimming - 2022
DESCRIPTION:66th National School Games Swimming – 2022 \nSCHOOL GAMES UNDER 19 \nAt Dr. Shyama Prasad Mukherjee Swimming Pool Complex Delhi \n6TH TO 10TH JUNE\, 2023 \n 
URL:https://indianaquatics.in/event/66th-national-school-games-swimming-2022/
LOCATION:Dr. Shyama Prasad Mukherjee Swimming Pool Complex Delhi
CATEGORIES:Events,Swimming
ATTACH;FMTTYPE=image/jpeg:https://indianaquatics.in/wp-content/uploads/2023/06/66th-National-School-Games-Swimming-2022.jpg
END:VEVENT
BEGIN:VEVENT
DTSTART;TZID=UTC:20230530T080000
DTEND;TZID=UTC:20230602T170000
DTSTAMP:20260421T184135
CREATED:20230530T034456Z
LAST-MODIFIED:20230530T034456Z
UID:2854-1685433600-1685725200@indianaquatics.in
SUMMARY:STATE SUB-JUNIOR\, JUNIOR & SENIOR AQUATIC CHAMPIONSHIP- 2023-24
DESCRIPTION:We are pleased to inform you that STATE SUB-JUNIOR\,\nJUNIOR & SENIOR AQUATIC CHAMPIONSHIP- 2023-24 will be\nheld in the month of May & June\, 2023 at Basavanagudi\nAquatic Centre.
URL:https://indianaquatics.in/event/state-sub-junior-junior-senior-aquatic-championship-2023-24/
LOCATION:basavanagudi aquatic centre
CATEGORIES:Events,Swimming
ATTACH;FMTTYPE=image/jpeg:https://indianaquatics.in/wp-content/uploads/2023/05/3470652-Copy-scaled.jpg
END:VEVENT
BEGIN:VEVENT
DTSTART;TZID=UTC:20230310T080000
DTEND;TZID=UTC:20230311T170000
DTSTAMP:20260421T184135
CREATED:20230130T090533Z
LAST-MODIFIED:20230214T142646Z
UID:2619-1678435200-1678554000@indianaquatics.in
SUMMARY:INTERNTIONAL SWIMMING CHAMPIONSHIPS\, MUSCAT\, OMAN
DESCRIPTION:DATES : 10-11 March 2023\n\n\n\nVENUE : Muscat\, Oman Sultan Qaboos Sports Complex\n\n\n\nIMPORTANT CONTACTS:\n\n\n\nOMAN: Mr. Salim Al Balushi – +96895265454Mr. Malik – +96899331039osaswimm@omantel.net.om \n\n\n\nUAE: Ms. Racheal – +971585903252Ms. Nimesha – +971527221687regitrations@sportznxt.com \n\n\n\nINDIA: Mr. Rajesh Biddappa – +91 9606805405info@indianaquatics.in \n\n\n\nREGISTRATION DEADLINE: 2nd March 2023\n\n\n\nOMAN SWIMMING ASSOCIATION in cooperation with INDIAN AQUATICS and Ruznama Enterprises & Trading has the pleasure of extending the invitation\, to the School Athletes\, Swim Clubs\, Aquatic Officials\, and Individual Swimmers from UAE\, INDIA\, OMAN and other countries to the 1ST International School Swimming Championships\, on the 10-11 March 2023 at the Sultan Qaboos Sports Complex\, Muscat\, Oman.The objective of this tournament is to provide a platform to all swimmers from these three countries for an opportunity to compete internationally and demonstrate their talent\, ethics\, and good sportsmanship while promoting camaraderie. This event will also provide a chance for National & International athletes to improve or break records for the upcoming Competition Season. \n\n\n\n \n\n\n\nRULES FOR THE EVENT\n\n\n\no The entries are open to all Schools\, Clubs\, and Individual Participantso All registered and regular school children will be allowed to take part in this swimming meet.o Relay Events if any\, TEAM should be from the same institution\, like\, the same school\, club\, or academy. o Exchange of institutions is not allowedo Swimmers should carry a copy of their Birth Certificate and School ID to the event\, for verification.o A SOFT COPY of OMAN AQUATICS ID & INDIAN AQUATICS ID (on email or WhatsApp) is also accepted.o ALL EVENTS will be held on a “TIME TRIAL” basis ONLYo “Digital Participation Certificate” can be downloaded from the OMAN AQUATICS / INDIAN AQUATICS ATHLETE DASHBOARDo Certificates\, Trophies\, and Medals will be distributed to the winners at the VENUEo There will be “SURPRISE goodies” given to all registered participants.o The decision of “REFEREE” is final and OMAN AQUATICS will not entertain any protests.o The event will be conducted according to the guideline of WORLD AQUATICS and Organizing Committee Rules. \n\n\n\nREGISTRATION FEES AND ENTRY FEES\n\n\n\nUSD120 (INR10000 rounded off) for any 4 events in the particular group of the athlete\, this includes\, Registration fee\, Entry Fees\, Accreditation and taxesNOTE – This fees will be adjusted if you choose the Package from us. \n\n\n\nPAYMENT METHOD:\n\n\n\nAll persons willing to participate in this Event must complete the online registration at the link (https://oman.quoton.in/forms/athlete) of the “1st International School Swimming Championships” set on the home page of Oman Aquatics.The registration will begin on Monday 13th February 2023\, the participants must be registered\, and all the registration and entry fees must have been paid by credit cards of VISA\, AMEX\, Mastercard\, etc by the deadline of 2nd of March 2023\, at 17:00 on Muscat time. \n\n\n\n\nINDIVIDUAL REGISTRAITON\n\n\n\nCOACH REGISTRATION\n\n\n\nREFEREE REGISTRATION\n\n\n\n\n \n\n\n\nTECHNICAL MEETING\n\n\n\nThe Technical Meeting will be held at the competition venue on 9TH MARCH 2023 at 5:00 pm. All Team Managers and Judges are required to attend. \n\n\n\nSCHEDULE\n\n\n\n\n\n\n\nAGE GROUPS\n\n\n\n\n\n\n\nORDER OF EVENTS\n\n\n\n\n\n\n\nACCREDITATION\n\n\n\nAccreditation will be provided to eligible participants of The 1st International School Swimming Championships with access and entitlement privileges. \n\n\n\nPRIZES\n\n\n\nFirst 3 places will get a Medal and Certificate (Gold/Silver/Bronze) Certificates of Participation will be presented to all participants. \n\n\n\nRECORD\n\n\n\nThe 1st places in this event will be considered as “NEW MEET RECORD” for future editions of this event \n\n\n\nVENUE & TRAINING POOL\n\n\n\nSultan Qaboos Sports Complex H9FX+7VM\, Muscat\, Oman \n\n\n\n\n\n\n\nStartlistResultsDay 1 StartlistDay 1 Results
URL:https://indianaquatics.in/event/interntional-swimming-championships-muscat-oman/
CATEGORIES:Events,Swimming
ATTACH;FMTTYPE=image/jpeg:https://indianaquatics.in/wp-content/uploads/2023/01/new2.jpg
END:VEVENT
BEGIN:VEVENT
DTSTART;TZID=UTC:20230303T080000
DTEND;TZID=UTC:20230507T170000
DTSTAMP:20260421T184135
CREATED:20221123T071718Z
LAST-MODIFIED:20221124T171640Z
UID:2172-1677830400-1683478800@indianaquatics.in
SUMMARY:AITN Bangkok ASIAN OPEN SCHOOLS INVITAIONAL AQUATICS CHAMPIONSHIPS 2022
DESCRIPTION:AITN Bangkok ASIAN OPEN SCHOOLS INVITAIONAL AQUATICS CHAMPIONSHIPS 2022 \n 
URL:https://indianaquatics.in/event/aitn-bangkok-asian-open-schools-invitaional-aquatics-championships-2022/
LOCATION:Aquatic Centre Thammasat University Bangkok\, Thailand\, Thailand
CATEGORIES:Events,Open Water Event,Swimming
ATTACH;FMTTYPE=image/jpeg:https://indianaquatics.in/wp-content/uploads/2022/11/AITN-Bangkok.jpg
END:VEVENT
BEGIN:VEVENT
DTSTART;TZID=UTC:20230211T080000
DTEND;TZID=UTC:20230212T170000
DTSTAMP:20260421T184135
CREATED:20230130T094050Z
LAST-MODIFIED:20230130T094050Z
UID:2653-1676102400-1676221200@indianaquatics.in
SUMMARY:RR AQUA SPORTS SWIMMING CHAMPIONSHIP SEASON 1 - 2023
DESCRIPTION:RR AQUA SPORTS ANNOUNCES ITS 1st RR AQUA SPORTS SWIMMING\nCHAMPIONSHIP SEASON 1 DURING 11th FEBRUARY 2023 TO 12th FEBRUARY\n2023 from 0930 IO 1600 HRS ON BOTH DAYS AT RR AQUA SPORTS.\nVISAKHAPATNAM FOR MEN AND WOMEN OF DIFFERENT AGE GROUPS
URL:https://indianaquatics.in/event/rr-aqua-sports-swimming-championship-season-1-2023/
LOCATION:RR AQUA SPORTS\, ECOR SWIMMING COMPLEX\, VISAKHAPATNAM.
CATEGORIES:Events,Swimming
ATTACH;FMTTYPE=image/jpeg:https://indianaquatics.in/wp-content/uploads/2023/01/IMG-20230128-WA0002.jpg
END:VEVENT
BEGIN:VEVENT
DTSTART;TZID=UTC:20221218T080000
DTEND;TZID=UTC:20221218T170000
DTSTAMP:20260421T184135
CREATED:20221210T102800Z
LAST-MODIFIED:20221210T105602Z
UID:2429-1671350400-1671382800@indianaquatics.in
SUMMARY:4th PAC Non-Medallist Swim Meet-2022.
DESCRIPTION:4th PAC Non-Medallist Swim Meet-2022. \nPooja Aquatic Center is pleased to invite swimmers of your \nClub/School to participate in 4th PAC Non-Medallist Swim Meet-2022 \nDate: 18th December 2022(Sunday) \n  \nVenue: Pooja Aquatic Center\, Shastri Nagar\, parallel to K.R. road\,Post Office\, Banashankari Stage 2\, Bangalore-560070. \n  \nWarm up time : 7 am-8.15 am \n  \nCompetition Session: 8.30 am
URL:https://indianaquatics.in/event/4th-pac-non-medallist-swim-meet-2022/
LOCATION:Pooja Aquatic Center\, Shastri Nagar\, parallel to K.R. road\,Post Office\, Banashankari Stage 2\, Bangalore-560070.
CATEGORIES:Events,Swimming
ATTACH;FMTTYPE=image/jpeg:https://indianaquatics.in/wp-content/uploads/2022/12/3470652-1-scaled.jpg
END:VEVENT
BEGIN:VEVENT
DTSTART;TZID=UTC:20221206T080000
DTEND;TZID=UTC:20221209T170000
DTSTAMP:20260421T184135
CREATED:20221206T031648Z
LAST-MODIFIED:20221206T033825Z
UID:2336-1670313600-1670605200@indianaquatics.in
SUMMARY:XXI STATE SHORT COURSE SWIMMING CHAMPIONSHIP -2022
DESCRIPTION:XXI STATE SHORT COURSE SWIMMING CHAMPIONSHIP -2022 \nBENGALURU\,6TH TO 9TH DECEMBER 2022\nHELD AT P E T AQUATIC CENTRE\, MANDYA
URL:https://indianaquatics.in/event/xxi-state-short-course-swimming-championship-2022/
LOCATION:P E T AQUATIC CENTRE\, MANDYA
CATEGORIES:Events,Swimming
ATTACH;FMTTYPE=image/jpeg:https://indianaquatics.in/wp-content/uploads/2022/12/XXI-STATE-SHORT-COURSE-2022.-CIRCULAR-scaled.jpg
END:VEVENT
BEGIN:VEVENT
DTSTART;TZID=UTC:20221129T080000
DTEND;TZID=UTC:20221204T170000
DTSTAMP:20260421T184135
CREATED:20221129T150613Z
LAST-MODIFIED:20221129T152918Z
UID:2272-1669708800-1670173200@indianaquatics.in
SUMMARY:CBSE INTERSCHOOL SWIMMING COMPETITION - SOUTH ZONE II (SZ-II)
DESCRIPTION:SWIMMING COMPETITION – SOUTH ZONE II (SZ-II) \nDate: 29th November to 4th December \nVenue: No 118/4\, Agara\, Kumbalagodu Road\, Tathaguni Post\, Kengeri Hobli\, \nBangalore 560062
URL:https://indianaquatics.in/event/cbse-interschool-swimming-competition-south-zone-ii-sz-ii/
LOCATION:No 118/4\, Agara\, Kumbalagodu Road\, Tathaguni Post\, Kengeri Hobli\,  Bangalore 560062
CATEGORIES:Events,Swimming
ATTACH;FMTTYPE=image/jpeg:https://indianaquatics.in/wp-content/uploads/2022/11/3470652-Copy-scaled.jpg
END:VEVENT
BEGIN:VEVENT
DTSTART;TZID=UTC:20221125T080000
DTEND;TZID=UTC:20221127T170000
DTSTAMP:20260421T184135
CREATED:20221102T093519Z
LAST-MODIFIED:20221102T093519Z
UID:2085-1669363200-1669568400@indianaquatics.in
SUMMARY:18th National Masters championships 2022
DESCRIPTION:SWIMMING FEDERATION OF INDIA \n18th National Masters championships 2022 \n 
URL:https://indianaquatics.in/event/18th-national-masters-championships-2022/
LOCATION:War Hero’s Memorial Stadium\, Ambala\, Haryana\, India
CATEGORIES:Events,Swimming
ATTACH;FMTTYPE=image/jpeg:https://indianaquatics.in/wp-content/uploads/2022/11/18th-National-Masters-championships-2022.jpg
END:VEVENT
BEGIN:VEVENT
DTSTART;TZID=UTC:20221120T080000
DTEND;TZID=UTC:20221120T170000
DTSTAMP:20260421T184135
CREATED:20221103T043703Z
LAST-MODIFIED:20221103T051116Z
UID:2117-1668931200-1668963600@indianaquatics.in
SUMMARY:Zee Swim Academy Grand Prix 2022 Leg-2\, Bangalore
DESCRIPTION:Zee Swim Academy is pleased to invite swimmers of your Club/School to par;cipate in the 2nd leg\nof the ZSA Grand Prix 2022\, on 20 November 2022 (Sunday) at Zee Swim Academy – East No\n40/123\, Kumbena Agrahara\, Kadugodi Post\, Belathur Main Road\, Bengaluru – 560067\nDate: 20 November 2022 (Sunday)\nVenue: Zee Swim Academy\, Kadugodi\, Whitefield\nWarm-up: 7 am to 8:15 am\ncompetition Session: 8:30 am onwards\nPool dimensions: 15m x 50m (6 lanes 2m each)
URL:https://indianaquatics.in/event/zee-swim-academy-grand-prix-2022-leg-2-bangalore/
LOCATION:Zee Swim Academy\, Kadugodi\, Whitefield\, India
CATEGORIES:Events,Swimming
ATTACH;FMTTYPE=image/jpeg:https://indianaquatics.in/wp-content/uploads/2022/11/Zee-Swim-Academy-Leg-2-scaled.jpg
END:VEVENT
BEGIN:VEVENT
DTSTART;TZID=UTC:20221119T080000
DTEND;TZID=UTC:20221120T170000
DTSTAMP:20260421T184135
CREATED:20221011T153245Z
LAST-MODIFIED:20221011T155203Z
UID:1985-1668844800-1668963600@indianaquatics.in
SUMMARY:Indian Aquatics Charminar Cup 2022 Swim Meet
DESCRIPTION:Indian Aquatics announces the CHARMINAR CUP 2022\, primarily focused on encouraging young swimmers\nto get an international swim meet experience.\n“For the first time in Telangana and Andhra Pradesh\, we are implementing the online registration and\nelectronic timing system for the Entries\, Registrations and Results as per standard of SFI and FINA”\nWe request all the Coaches\, PE Teachers and Trainers to support this event and encourage the young swimmers\nto participate and take this opportunity to show case their potential with an experience of an international swim\nmeet atmosphere. \nThis edition will be for Amateur SWIMMERS\, where any swimmer who has represented Telangana and Andhra\nPradesh in any National Championship conducted by SFI\, will not be eligible to take part in this event. This EVENT\nis to provide a unique platform for the Amateur swimmers to get to showcase their talents.
URL:https://indianaquatics.in/event/indian-aquatics-charminar-cup-2022-swim-meet/
LOCATION:Gachibowli Swimming Pool
CATEGORIES:Events,Swimming
ATTACH;FMTTYPE=image/jpeg:https://indianaquatics.in/wp-content/uploads/2022/10/Indian-aquatics-CHARMINAR-cup-2022.jpg
END:VEVENT
BEGIN:VEVENT
DTSTART;TZID=UTC:20221112T080000
DTEND;TZID=UTC:20221113T170000
DTSTAMP:20260421T184135
CREATED:20221027T111018Z
LAST-MODIFIED:20221027T115008Z
UID:2050-1668240000-1668358800@indianaquatics.in
SUMMARY:Nettakallappa ALL INDIA SWIMMING CHAMPIONSHIP 2022
DESCRIPTION:The Nettakallappa Aquatic Centre is named in the memory and\nhonour of Mr. K A Nettakallappa\, former Managing Director of\nDeccan Herald and Prajavani group of newspapers and a passionate\nsports enthusiast. Mr. Nettakallappa was actively\ninvolved in supporting many associations including badminton\,\nmountaineering and athletics in the state of Karnataka. The\nNettakallappa Aquatic Centre came into existence in the year\n2012 and in order to mark the journey of 10 years of aquatic excellence\,\nthe Nettakallappa All India Swimming Championship\nwill be organized on 12th and 13th November 2022 at the\nstate-of-the-art facility in Bengaluru. The Swimming Championship\nwill attract some of the most talented swimmers of the\ncountry.
URL:https://indianaquatics.in/event/nettakallappa-all-india-swimming-championship-2022/
LOCATION:Nettakallappa Aquatic Centre
CATEGORIES:Events,Swimming
ATTACH;FMTTYPE=image/jpeg:https://indianaquatics.in/wp-content/uploads/2022/10/Poster_NAC.jpeg
END:VEVENT
BEGIN:VEVENT
DTSTART;TZID=UTC:20221105T080000
DTEND;TZID=UTC:20221105T170000
DTSTAMP:20260421T184135
CREATED:20220822T103342Z
LAST-MODIFIED:20220922T051727Z
UID:1804-1667635200-1667667600@indianaquatics.in
SUMMARY:12th Treamis Aqua Inter-School Competition
DESCRIPTION:12th Treamis Aqua Inter-School Competition to be held on 05th November 2022.
URL:https://indianaquatics.in/event/12th-treamis-aqua-inter-school-competition/
LOCATION:Treamis World School\, near Electronic City\, Bangalore South.
CATEGORIES:Events,Swimming
ATTACH;FMTTYPE=image/jpeg:https://indianaquatics.in/wp-content/uploads/2022/09/AQUATIC-Inter-School-Competition-scaled.jpg
END:VEVENT
BEGIN:VEVENT
DTSTART;TZID=UTC:20221101T083000
DTEND;TZID=UTC:20221101T180000
DTSTAMP:20260421T184135
CREATED:20221022T033611Z
LAST-MODIFIED:20221022T041138Z
UID:2029-1667291400-1667325600@indianaquatics.in
SUMMARY:"UTPULTA 2022"
DESCRIPTION:The Rotary Club of Bangalore takes great pride in announcing in “UTPULTA 2022” a Swim Meet at the Nettakallappa Aquatic Centre\, Subramanya Pura Road\, Chikkalasandra\, Bengaluru. The event will be held on 1 November\, 2022.
URL:https://indianaquatics.in/event/utpulta-2022/
LOCATION:Nettakallappa Aquatic Centre
CATEGORIES:Events,Swimming
ATTACH;FMTTYPE=image/jpeg:https://indianaquatics.in/wp-content/uploads/2022/10/WhatsApp-Image-2022-10-21-at-4.20.51-PM.jpeg
END:VEVENT
BEGIN:VEVENT
DTSTART;TZID=UTC:20220916T080000
DTEND;TZID=UTC:20220918T170000
DTSTAMP:20260421T184135
CREATED:20220913T063253Z
LAST-MODIFIED:20220913T063253Z
UID:1937-1663315200-1663520400@indianaquatics.in
SUMMARY:FINA World Junior Open Water Swimming Championships 2022
DESCRIPTION:The FINA World Junior Open Water Swimming Championships 2022 will see more than 150 athletes from over 50 countries compete in Beau Vallon\, Seychelles (SEY). The competition of 5km\, 7.5km and 10km swim will be organized on a 2\,500m lap course. Swimmers must swim four (4) laps for 10km\, three (3) laps for 7.5km and two (2) laps for 5km. 4 x 1.5km mixed relay will be on a 1\,500m lap course\, left shoulder turn.
URL:https://indianaquatics.in/event/fina-world-junior-open-water-swimming-championships-2022/
CATEGORIES:Events,Open Water Event,Swimming
ATTACH;FMTTYPE=image/jpeg:https://indianaquatics.in/wp-content/uploads/2022/09/fina.jpg
END:VEVENT
BEGIN:VEVENT
DTSTART;TZID=UTC:20220906T080000
DTEND;TZID=UTC:20220910T170000
DTSTAMP:20260421T184135
CREATED:20220906T051653Z
LAST-MODIFIED:20220906T051653Z
UID:1893-1662451200-1662829200@indianaquatics.in
SUMMARY:75th SENIOR NATIONAL AQUATIC CHAMPIONSHIPS-2022 at Guwahati
DESCRIPTION:75th SENIOR NATIONAL AQUATIC CHAMPIONSHIPS-2022 at Guwahati \nSwimming\,Diving\,water polo will be conducted at Dr. Zakir Hussain Aquatic Complex\, Nalapara\, Sarusajai\, Guwahati\, Assam from 06th to 10th September 2022 by Assam Swimming Association under the auspices of Swimming Federation of India. \n 
URL:https://indianaquatics.in/event/75th-senior-national-aquatic-championships-2022-at-guwahati/
LOCATION:Dr Zakir Hussain Aquatic Complex\, India
CATEGORIES:Swimming
ATTACH;FMTTYPE=image/jpeg:https://indianaquatics.in/wp-content/uploads/2022/09/300373617_614165493407497_5737063802908270643_n.jpg
END:VEVENT
BEGIN:VEVENT
DTSTART;TZID=UTC:20220830T080000
DTEND;TZID=UTC:20220904T170000
DTSTAMP:20260421T184135
CREATED:20220604T134939Z
LAST-MODIFIED:20220604T144723Z
UID:1117-1661846400-1662310800@indianaquatics.in
SUMMARY:8th FINA World Junior Swimming Championships 2022
DESCRIPTION:The FINA World Junior Swimming Championships 2022 will be stage in Lima\, Peru over six (6) days with preliminary heats in the morning\nsessions and the semi-finals and finals in the evening session. All morning sessions will start at 09:30\, and evening sessions will start at 18:00 local time (GMT -5). \nThe venue for the competition is the VIDENA Aquatic Center. This venue hosted the XVIII Pan American and Parapan American Games Lima 2019\, the Lima 2021 South American Youth Aquatic Sports Championship and the FINA Water Polo World League Intercontinental Cup 2022. \nClick here to go to the event page and view the result.
URL:https://indianaquatics.in/event/8th-fina-world-junior-swimming-championships-2022/
LOCATION:Peru\, Lima\, Peru
CATEGORIES:Swimming
ATTACH;FMTTYPE=image/png:https://indianaquatics.in/wp-content/uploads/2022/06/fina.png
END:VEVENT
BEGIN:VEVENT
DTSTART;TZID=UTC:20220826T080000
DTEND;TZID=UTC:20220826T170000
DTSTAMP:20260421T184135
CREATED:20220823T085350Z
LAST-MODIFIED:20220823T085350Z
UID:1819-1661500800-1661533200@indianaquatics.in
SUMMARY:Soundarya Central School 4th Soundarya Inter-School Non-Medalist Swim Meet 2022-23
DESCRIPTION:Soundarya Central School \n4th Soundarya Inter-School \nNon-Medalist \nSwim Meet 2022-23 \n26 August 2022 \nVENUE:SOUNDARYA CENTRAL SCHOOL AQUATIC CENTER \nWe request you to send your team to this spectacular event. Please confirm your entry on or before 22nd August 2022\, \nalong with duly filled entry forms.
URL:https://indianaquatics.in/event/soundarya-central-school-4th-soundarya-inter-school-non-medalist-swim-meet-2022-23/
LOCATION:SOUNDARYA CENTRAL SCHOOL AQUATIC CENTER\, Bangalore\, Karnataka\, India
CATEGORIES:Swimming
ATTACH;FMTTYPE=image/jpeg:https://indianaquatics.in/wp-content/uploads/2022/08/31-Copy-Copy-Copy.jpg
END:VEVENT
BEGIN:VEVENT
DTSTART;TZID=UTC:20220823T080000
DTEND;TZID=UTC:20220824T170000
DTSTAMP:20260421T184135
CREATED:20220820T091802Z
LAST-MODIFIED:20220820T091802Z
UID:1763-1661241600-1661360400@indianaquatics.in
SUMMARY:selection of swimmers for the Khelo India State Centre of Excellence (KISCE)
DESCRIPTION:selection of swimmers for the Khelo India State Centre of Excellence (KISCE) \nThe selections will be held for 2 days from 23rd – 24th August 2022 Wednesday & Thursday at Jayaprakash Narayan National Youth Training Center\, Vidya Nagar\, Bengaluru North.\n\n\nBelow are some of the important criteria for selections:\n\n1.) Junior and Senior swimmers (Both Gender – Age Category: Open\, Group 1\, Group 2) of the current calendar year and the previous calendar  year will be considered for the selections. Sub Junior (Group 3) Swimmers are not preferred.\n\n2.) The swimmers should have compulsorily participated in the last two years swimming championships.\n\n3.) Finalists of all the events held during Karnataka State Junior and Senior Swimming Championships will be considered for the selection.\n\n4.) In case if any swimmer has not reached finals in the State Swimming Championships but can swim to the 6th Position timings of SFI Junior and Senior National Aquatic Championships may be given a chance to take part in the selections.\n\n5.) Physical ability test will be compulsorily conducted earlier to swimming tests.\n\n6.) The following swimming tests will be conducted:\n\na.) T–30 Swim or 7x200m Step Test or 3000m Endurance Swim.\n\nb.) Time Trials for the Main Stroke (50m & 100m)\n\nc.) 200m Individual Medley Swim off\n\nd.) Various Starts and Turns.
URL:https://indianaquatics.in/event/selection-of-swimmers-for-the-khelo-india-state-centre-of-excellence-kisce/
LOCATION:Jayaprakash Narayan National Youth Training Center\, #36\, 2nd Cross Deshabandhunagar Doddabomasandr\, bengaluru\, Karnataka\, India
CATEGORIES:Swimming
ATTACH;FMTTYPE=image/jpeg:https://indianaquatics.in/wp-content/uploads/2022/08/KISCE-Selection-2022-scaled.jpg
END:VEVENT
BEGIN:VEVENT
DTSTART;TZID=UTC:20220814T080000
DTEND;TZID=UTC:20220814T170000
DTSTAMP:20260421T184135
CREATED:20220816T054709Z
LAST-MODIFIED:20220816T054709Z
UID:1749-1660464000-1660496400@indianaquatics.in
SUMMARY:We One Carnival 2022
DESCRIPTION:We One Carnival 2022
URL:https://indianaquatics.in/event/we-one-carnival-2022/
LOCATION:We One Aqua Centre\, St Aloysius College Swimming Pool\, Mangalore\, India
CATEGORIES:Swimming
ATTACH;FMTTYPE=image/jpeg:https://indianaquatics.in/wp-content/uploads/2022/08/We-One-Carnival-2022.jpg
END:VEVENT
BEGIN:VEVENT
DTSTART;TZID=UTC:20220812T080000
DTEND;TZID=UTC:20220815T170000
DTSTAMP:20260421T184135
CREATED:20220811T152008Z
LAST-MODIFIED:20220811T152029Z
UID:1707-1660291200-1660582800@indianaquatics.in
SUMMARY:STATE SENIOR AQUATIC CHAMPIONSHIP 2022
DESCRIPTION:STATE SENIOR AQUATIC CHAMPIONSHIP 2022 \n  \nSWIMMING EVENTS WILL BE HELD AT CENTRE OF SPORTS EXELLENCE 9.00 A.M. TO 5.00 P.M.
URL:https://indianaquatics.in/event/state-senior-aquatic-championship-2022/
LOCATION:CENTRE OF SPORTS EXELLENCE\, India
CATEGORIES:Swimming
ATTACH;FMTTYPE=image/jpeg:https://indianaquatics.in/wp-content/uploads/2022/08/5330589-Copy-scaled.jpg
END:VEVENT
BEGIN:VEVENT
DTSTART;TZID=UTC:20220807T080000
DTEND;TZID=UTC:20220821T170000
DTSTAMP:20260421T184135
CREATED:20220807T072039Z
LAST-MODIFIED:20220807T072039Z
UID:1601-1659859200-1661101200@indianaquatics.in
SUMMARY:Khelo India Junior Women’s Swimming Series
DESCRIPTION:Khelo India Junior Women’s Swimming Series \nDates\nZone         Round 1 Date        City / Venue                              Round 2 Date      Venue\n1               20-21 Aug              Delhi\, SAI Talkatora                 TBD                      Ambala\, Haryana\n2               20-21 Aug              Ahmedabad\, Savvy Swaraj     TBD                      Pune\, Deccan Gymkhana\n3               20-21 Aug              Bangalore\, BAC                        TBD                      Trivandrum\, TBC \n20-21 Aug  TBD Trivandrum\, TBC\n4\n20-21 Aug\nHoshangabad (MP)\nTBD\nTBC 5 20-21 Aug Kolkata\, SAI Eastern Centre TBD Guwahati\, TBC
URL:https://indianaquatics.in/event/khelo-india-junior-womens-swimming-series/
CATEGORIES:Swimming
ATTACH;FMTTYPE=image/jpeg:https://indianaquatics.in/wp-content/uploads/2022/08/junior-womens-swimming-series_option_02-scaled.jpg
END:VEVENT
BEGIN:VEVENT
DTSTART;TZID=UTC:20220716T080000
DTEND;TZID=UTC:20220720T170000
DTSTAMP:20260421T184135
CREATED:20220620T205953Z
LAST-MODIFIED:20220620T210035Z
UID:1269-1657958400-1658336400@indianaquatics.in
SUMMARY:48TH Junior National Aquatic Championships 2022
DESCRIPTION:We are pleased to inform that the 48th Junior National Aquatic Championships-2022 will be conducted from 16th to 20th July 2022 by The Odisha State Swimming Association under the auspices of Swimming Federation of India.
URL:https://indianaquatics.in/event/48th-junior-national-aquatic-championships-2022/
LOCATION:Biju Patnaik Swimming Pool cum Sports complex\, Kalinga Stadium\, Bhubaneswar\, Odisha\, India
CATEGORIES:Swimming
ATTACH;FMTTYPE=image/png:https://indianaquatics.in/wp-content/uploads/2022/06/48thJunior.png
END:VEVENT
BEGIN:VEVENT
DTSTART;TZID=UTC:20220624T080000
DTEND;TZID=UTC:20220626T170000
DTSTAMP:20260421T184135
CREATED:20220620T205628Z
LAST-MODIFIED:20220620T210103Z
UID:1266-1656057600-1656262800@indianaquatics.in
SUMMARY:38th Sub Junior National Aquatic Championships 2022
DESCRIPTION:We are pleased to inform that the 38th Sub Junior National Aquatic Championships 2022 will be conducted from 24th to 26th June 2022 by Rajkot District Swimming Association (unit of GSAA) under the auspices of Swimming Federation of India.
URL:https://indianaquatics.in/event/38th-sub-junior-national-aquatic-championships-2022/
LOCATION:Sardar Vallabhbhai Patel Swimming Complex\, Kothariya main Road\, Word No 19 B\, Master Society\, Bhakti Nahar Police Station\, Rajkot\, Gujrat\, India
CATEGORIES:Swimming
ATTACH;FMTTYPE=image/png:https://indianaquatics.in/wp-content/uploads/2022/06/38thSubJunior.png
END:VEVENT
END:VCALENDAR